BEGIN:VCALENDAR
VERSION:2.0
PRODID:-//81.17.254.28//NONSGML kigkonsult.se iCalcreator 2.20//
CALSCALE:GREGORIAN
METHOD:PUBLISH
X-FROM-URL:http://www.laurelhillcolaistefcj.ie
X-WR-TIMEZONE:Europe/Dublin
BEGIN:VTIMEZONE
TZID:Europe/Dublin
X-LIC-LOCATION:Europe/Dublin
BEGIN:STANDARD
DTSTART:20171029T020000
TZOFFSETFROM:+0100
TZOFFSETTO:+0000
TZNAME:GMT
END:STANDARD
BEGIN:DAYLIGHT
DTSTART:20180325T010000
TZOFFSETFROM:+0000
TZOFFSETTO:+0100
TZNAME:IST
END:DAYLIGHT
END:VTIMEZONE
BEGIN:VEVENT
UID:ai1ec-212@www.laurelhillcolaistefcj.ie/wip
DTSTAMP:20171107T013641Z
CATEGORIES:
CONTACT:
DESCRIPTION:
DTSTART;VALUE=DATE:20161110
DTEND;VALUE=DATE:20161111
SEQUENCE:0
SUMMARY:Cork Pops Bl.1
URL:http://www.laurelhillcolaistefcj.ie/event/cork-pops-bl-1/
X-COST-TYPE:free
END:VEVENT
BEGIN:VEVENT
UID:ai1ec-532@www.laurelhillcolaistefcj.ie
DTSTAMP:20171107T013641Z
CATEGORIES:
CONTACT:
DESCRIPTION:
DTSTART;VALUE=DATE:20161206
DTEND;VALUE=DATE:20161208
SEQUENCE:0
SUMMARY:Scrúduithe Bl.4
URL:http://www.laurelhillcolaistefcj.ie/event/scruduithe-bl-4/
X-COST-TYPE:free
END:VEVENT
BEGIN:VEVENT
UID:ai1ec-213@www.laurelhillcolaistefcj.ie/wip
DTSTAMP:20171107T013641Z
CATEGORIES:
CONTACT:
DESCRIPTION:School is closed on Thursday 8th and Friday 9th of December.
DTSTART;VALUE=DATE:20161208
DTEND;VALUE=DATE:20161209
SEQUENCE:0
SUMMARY:Saoire Eaglaise
URL:http://www.laurelhillcolaistefcj.ie/event/la-saor-saoire-eaglaise/
X-COST-TYPE:free
X-ALT-DESC;FMTTYPE=text/html:<!DOCTYPE HTML PUBLIC '-//W3C//DTD HTML 3.2//E
 N'>\\n<HTML>\\n<HEAD>\\n<TITLE></TITLE>\\n</HEAD>\\n<BODY><p>School is clo
 sed on Thursday 8th and Friday 9th of December.</p>\n</BODY></HTML>
END:VEVENT
BEGIN:VEVENT
UID:ai1ec-531@www.laurelhillcolaistefcj.ie
DTSTAMP:20171107T013641Z
CATEGORIES:
CONTACT:
DESCRIPTION:
DTSTART;VALUE=DATE:20161209
DTEND;VALUE=DATE:20161210
SEQUENCE:0
SUMMARY:Lá Saor
URL:http://www.laurelhillcolaistefcj.ie/event/la-saor/
X-COST-TYPE:free
END:VEVENT
BEGIN:VEVENT
UID:ai1ec-533@www.laurelhillcolaistefcj.ie
DTSTAMP:20171107T013641Z
CATEGORIES:
CONTACT:
DESCRIPTION:
DTSTART;VALUE=DATE:20161212
DTEND;VALUE=DATE:20161213
SEQUENCE:0
SUMMARY:Turas Staire Bl 5 & 6
URL:http://www.laurelhillcolaistefcj.ie/event/turas-staire-bl-5-6/
X-COST-TYPE:free
END:VEVENT
BEGIN:VEVENT
UID:ai1ec-1200@www.laurelhillcolaistefcj.ie
DTSTAMP:20171107T013641Z
CATEGORIES:
CONTACT:
DESCRIPTION:Retreat in school
DTSTART;VALUE=DATE:20170111
DTEND;VALUE=DATE:20170112
SEQUENCE:0
SUMMARY:Cúrsa Spioradálta Cuisle
URL:http://www.laurelhillcolaistefcj.ie/event/cursa-spioradalta-cuisle/
X-COST-TYPE:free
X-ALT-DESC;FMTTYPE=text/html:<!DOCTYPE HTML PUBLIC '-//W3C//DTD HTML 3.2//E
 N'>\\n<HTML>\\n<HEAD>\\n<TITLE></TITLE>\\n</HEAD>\\n<BODY><p>Retreat in sc
 hool</p>\n</BODY></HTML>
END:VEVENT
BEGIN:VEVENT
UID:ai1ec-1201@www.laurelhillcolaistefcj.ie
DTSTAMP:20171107T013641Z
CATEGORIES:
CONTACT:
DESCRIPTION:
DTSTART;VALUE=DATE:20170112
DTEND;VALUE=DATE:20170113
SEQUENCE:0
SUMMARY:Cúrsa Spioradálta Anam
URL:http://www.laurelhillcolaistefcj.ie/event/cursa-spioradalta-anam/
X-COST-TYPE:free
END:VEVENT
BEGIN:VEVENT
UID:ai1ec-1193@www.laurelhillcolaistefcj.ie
DTSTAMP:20171107T013641Z
CATEGORIES:
CONTACT:
DESCRIPTION:
DTSTART;VALUE=DATE:20170113
DTEND;VALUE=DATE:20170114
SEQUENCE:0
SUMMARY:Cúrsa Spioradálta Bl. 5
URL:http://www.laurelhillcolaistefcj.ie/event/cursa-spioradalta-bl-5/
X-COST-TYPE:free
END:VEVENT
BEGIN:VEVENT
UID:ai1ec-1202@www.laurelhillcolaistefcj.ie
DTSTAMP:20171107T013641Z
CATEGORIES:
CONTACT:
DESCRIPTION:3rd years and Sci-fest class in TY visit Young Scientist Exhibi
 tion in Dublin
DTSTART;VALUE=DATE:20170113
DTEND;VALUE=DATE:20170114
SEQUENCE:0
SUMMARY:Eolaí Óg Bl.3 & Scifest
URL:http://www.laurelhillcolaistefcj.ie/event/eolai-og-bl-3-scifest/
X-COST-TYPE:free
X-ALT-DESC;FMTTYPE=text/html:<!DOCTYPE HTML PUBLIC '-//W3C//DTD HTML 3.2//E
 N'>\\n<HTML>\\n<HEAD>\\n<TITLE></TITLE>\\n</HEAD>\\n<BODY><p>3rd years and
  Sci-fest class in TY visit Young Scientist Exhibition in Dublin</p>\n</BO
 DY></HTML>
END:VEVENT
BEGIN:VEVENT
UID:ai1ec-1197@www.laurelhillcolaistefcj.ie
DTSTAMP:20171107T013641Z
CATEGORIES:
CONTACT:
DESCRIPTION:Bridge competition in Dublin
DTSTART;VALUE=DATE:20170121
DTEND;VALUE=DATE:20170122
SEQUENCE:0
SUMMARY:Beiriste BÁC
URL:http://www.laurelhillcolaistefcj.ie/event/beiriste-bac/
X-COST-TYPE:free
X-ALT-DESC;FMTTYPE=text/html:<!DOCTYPE HTML PUBLIC '-//W3C//DTD HTML 3.2//E
 N'>\\n<HTML>\\n<HEAD>\\n<TITLE></TITLE>\\n</HEAD>\\n<BODY><p>Bridge compet
 ition in Dublin</p>\n</BODY></HTML>
END:VEVENT
BEGIN:VEVENT
UID:ai1ec-214@www.laurelhillcolaistefcj.ie/wip
DTSTAMP:20171107T013641Z
CATEGORIES:
CONTACT:
DESCRIPTION:February Mid-Term Break. School will close on Friday 17th Febru
 ary and re-open on Monday\, 27th of February
DTSTART;VALUE=DATE:20170220
DTEND;VALUE=DATE:20170225
SEQUENCE:0
SUMMARY:Briseadh Lár Téarma
URL:http://www.laurelhillcolaistefcj.ie/event/briseadh-lar-tearma/
X-COST-TYPE:free
X-ALT-DESC;FMTTYPE=text/html:<!DOCTYPE HTML PUBLIC '-//W3C//DTD HTML 3.2//E
 N'>\\n<HTML>\\n<HEAD>\\n<TITLE></TITLE>\\n</HEAD>\\n<BODY><p>February Mid-
 Term Break. School will close on Friday 17th February and re-open on Monda
 y\, 27th of February</p>\n</BODY></HTML>
END:VEVENT
BEGIN:VEVENT
UID:ai1ec-216@www.laurelhillcolaistefcj.ie/wip
DTSTAMP:20171107T013641Z
CATEGORIES:
CONTACT:
DESCRIPTION:Beidh imeachtaí éagsúla ar siúl sa scoil chun ár dteanga a chéi
 liúradh
DTSTART;VALUE=DATE:20170306
DTEND;VALUE=DATE:20170317
SEQUENCE:0
SUMMARY:Seachtain na Gaeilge
URL:http://www.laurelhillcolaistefcj.ie/event/seachtain-na-gaeilge/
X-COST-TYPE:free
X-ALT-DESC;FMTTYPE=text/html:<!DOCTYPE HTML PUBLIC '-//W3C//DTD HTML 3.2//E
 N'>\\n<HTML>\\n<HEAD>\\n<TITLE></TITLE>\\n</HEAD>\\n<BODY><p>Beidh imeacht
 aí éagsúla ar siúl sa scoil chun ár dteanga a chéiliúradh</p>\n</BODY></HT
 ML>
END:VEVENT
BEGIN:VEVENT
UID:ai1ec-215@www.laurelhillcolaistefcj.ie/wip
DTSTAMP:20171107T013641Z
CATEGORIES:
CONTACT:
DESCRIPTION:
DTSTART;VALUE=DATE:20170317
DTEND;VALUE=DATE:20170318
SEQUENCE:0
SUMMARY:Lá ‘le Pádraig
URL:http://www.laurelhillcolaistefcj.ie/event/la-le-padraig/
X-COST-TYPE:free
END:VEVENT
BEGIN:VEVENT
UID:ai1ec-1408@www.laurelhillcolaistefcj.ie
DTSTAMP:20171107T013641Z
CATEGORIES:
CONTACT:
DESCRIPTION:Leaving Certificate Irish Orals begin
DTSTART;VALUE=DATE:20170327
DTEND;VALUE=DATE:20170328
SEQUENCE:0
SUMMARY:Béaltrialacha sa Ghaeilge
URL:http://www.laurelhillcolaistefcj.ie/event/bealtrialacha-sa-ghaeilge/
X-COST-TYPE:free
X-ALT-DESC;FMTTYPE=text/html:<!DOCTYPE HTML PUBLIC '-//W3C//DTD HTML 3.2//E
 N'>\\n<HTML>\\n<HEAD>\\n<TITLE></TITLE>\\n</HEAD>\\n<BODY><p>Leaving Certi
 ficate Irish Orals begin</p>\n</BODY></HTML>
END:VEVENT
BEGIN:VEVENT
UID:ai1ec-1402@www.laurelhillcolaistefcj.ie
DTSTAMP:20171107T013641Z
CATEGORIES:
CONTACT:
DESCRIPTION:Leaving Certificate Music Practicals
DTSTART;VALUE=DATE:20170330
DTEND;VALUE=DATE:20170401
SEQUENCE:0
SUMMARY:Ceol Ardteistiméireacht
URL:http://www.laurelhillcolaistefcj.ie/event/comortas-siansa/
X-COST-TYPE:free
X-ALT-DESC;FMTTYPE=text/html:<!DOCTYPE HTML PUBLIC '-//W3C//DTD HTML 3.2//E
 N'>\\n<HTML>\\n<HEAD>\\n<TITLE></TITLE>\\n</HEAD>\\n<BODY><p>Leaving Certi
 ficate Music Practicals</p>\n</BODY></HTML>
END:VEVENT
BEGIN:VEVENT
UID:ai1ec-1401@www.laurelhillcolaistefcj.ie
DTSTAMP:20171107T013641Z
CATEGORIES:
CONTACT:
DESCRIPTION:
DTSTART;VALUE=DATE:20170401
DTEND;VALUE=DATE:20170402
SEQUENCE:0
SUMMARY:French Exchange Students Arrive
URL:http://www.laurelhillcolaistefcj.ie/event/french-exchange-students-arri
 ve/
X-COST-TYPE:free
END:VEVENT
BEGIN:VEVENT
UID:ai1ec-1404@www.laurelhillcolaistefcj.ie
DTSTAMP:20171107T013641Z
CATEGORIES:
CONTACT:
DESCRIPTION:Grúpa tradaistiúnta sa Cheoláras Náisiúnta do chomórtas Gael Li
 nn
DTSTART;VALUE=DATE:20170402
DTEND;VALUE=DATE:20170403
SEQUENCE:0
SUMMARY:Siansa
URL:http://www.laurelhillcolaistefcj.ie/event/siansa/
X-COST-TYPE:free
X-ALT-DESC;FMTTYPE=text/html:<!DOCTYPE HTML PUBLIC '-//W3C//DTD HTML 3.2//E
 N'>\\n<HTML>\\n<HEAD>\\n<TITLE></TITLE>\\n</HEAD>\\n<BODY><p>Grúpa tradais
 tiúnta sa Cheoláras Náisiúnta do chomórtas Gael Linn</p>\n</BODY></HTML>
END:VEVENT
BEGIN:VEVENT
UID:ai1ec-1405@www.laurelhillcolaistefcj.ie
DTSTAMP:20171107T013641Z
CATEGORIES:
CONTACT:
DESCRIPTION:Leaving Certificate French Orals begin
DTSTART;VALUE=DATE:20170403
DTEND;VALUE=DATE:20170404
SEQUENCE:0
SUMMARY:Béaltrialacha sa bhFraincis
URL:http://www.laurelhillcolaistefcj.ie/event/bealtrialacha-sa-bhfraincis/
X-COST-TYPE:free
X-ALT-DESC;FMTTYPE=text/html:<!DOCTYPE HTML PUBLIC '-//W3C//DTD HTML 3.2//E
 N'>\\n<HTML>\\n<HEAD>\\n<TITLE></TITLE>\\n</HEAD>\\n<BODY><p>Leaving Certi
 ficate French Orals begin</p>\n</BODY></HTML>
END:VEVENT
BEGIN:VEVENT
UID:ai1ec-1409@www.laurelhillcolaistefcj.ie
DTSTAMP:20171107T013641Z
CATEGORIES:
CONTACT:
DESCRIPTION:Junior Certificate Home Economics Practical Exams
DTSTART;VALUE=DATE:20170403
DTEND;VALUE=DATE:20170406
SEQUENCE:0
SUMMARY:Eacnamaíocht Bhaile
URL:http://www.laurelhillcolaistefcj.ie/event/eacnamaiocht-bhaile/
X-COST-TYPE:free
X-ALT-DESC;FMTTYPE=text/html:<!DOCTYPE HTML PUBLIC '-//W3C//DTD HTML 3.2//E
 N'>\\n<HTML>\\n<HEAD>\\n<TITLE></TITLE>\\n</HEAD>\\n<BODY><p>Junior Certif
 icate Home Economics Practical Exams</p>\n</BODY></HTML>
END:VEVENT
BEGIN:VEVENT
UID:ai1ec-1410@www.laurelhillcolaistefcj.ie
DTSTAMP:20171107T013641Z
CATEGORIES:
CONTACT:
DESCRIPTION:Junior Certificate Music Practicals Begin
DTSTART;VALUE=DATE:20170406
DTEND;VALUE=DATE:20170407
SEQUENCE:0
SUMMARY:Ceol Teastas Sóisearach
URL:http://www.laurelhillcolaistefcj.ie/event/ceol-teastas-soisearach/
X-COST-TYPE:free
X-ALT-DESC;FMTTYPE=text/html:<!DOCTYPE HTML PUBLIC '-//W3C//DTD HTML 3.2//E
 N'>\\n<HTML>\\n<HEAD>\\n<TITLE></TITLE>\\n</HEAD>\\n<BODY><p>Junior Certif
 icate Music Practicals Begin</p>\n</BODY></HTML>
END:VEVENT
BEGIN:VEVENT
UID:ai1ec-211@www.laurelhillcolaistefcj.ie/wip
DTSTAMP:20171107T013641Z
CATEGORIES:
CONTACT:
DESCRIPTION:
DTSTART;VALUE=DATE:20170524
DTEND;VALUE=DATE:20170525
SEQUENCE:0
SUMMARY:Corónú Bl.6 / Graduation
URL:http://www.laurelhillcolaistefcj.ie/event/coronu-bl-6-graduation/
X-COST-TYPE:free
END:VEVENT
BEGIN:VEVENT
UID:ai1ec-218@www.laurelhillcolaistefcj.ie/wip
DTSTAMP:20171107T013641Z
CATEGORIES:
CONTACT:
DESCRIPTION:
DTSTART;VALUE=DATE:20170607
DTEND;VALUE=DATE:20170624
SEQUENCE:0
SUMMARY:Scrúduithe Stáit
URL:http://www.laurelhillcolaistefcj.ie/event/scruduithe-stait/
X-COST-TYPE:free
END:VEVENT
BEGIN:VEVENT
UID:ai1ec-1696@www.laurelhillcolaistefcj.ie
DTSTAMP:20171107T013641Z
CATEGORIES:
CONTACT:
DESCRIPTION:
DTSTART;VALUE=DATE:20170816
DTEND;VALUE=DATE:20170817
SEQUENCE:0
SUMMARY:Torthaí na hÁrdteiste
URL:http://www.laurelhillcolaistefcj.ie/event/torthai-na-hardteiste/
X-COST-TYPE:free
END:VEVENT
BEGIN:VEVENT
UID:ai1ec-1688@www.laurelhillcolaistefcj.ie
DTSTAMP:20171107T013641Z
CATEGORIES:
CONTACT:
DESCRIPTION:
DTSTART;VALUE=DATE:20170828
DTEND;VALUE=DATE:20170829
SEQUENCE:0
SUMMARY:Oscailt na Scoile
URL:http://www.laurelhillcolaistefcj.ie/event/oscailt-na-scoile/
X-COST-TYPE:free
END:VEVENT
BEGIN:VEVENT
UID:ai1ec-1691@www.laurelhillcolaistefcj.ie
DTSTAMP:20171107T013641Z
CATEGORIES:
CONTACT:
DESCRIPTION:
DTSTART;VALUE=DATE:20170830
DTEND;VALUE=DATE:20170831
SEQUENCE:0
SUMMARY:Bl. 5 & Bl. 6 ar ais ar scoil
URL:http://www.laurelhillcolaistefcj.ie/event/bl-5-bl-6-ar-ais-ar-scoil/
X-COST-TYPE:free
END:VEVENT
BEGIN:VEVENT
UID:ai1ec-1692@www.laurelhillcolaistefcj.ie
DTSTAMP:20171107T013641Z
CATEGORIES:
CONTACT:
DESCRIPTION:
DTSTART;VALUE=DATE:20170831
DTEND;VALUE=DATE:20170901
SEQUENCE:0
SUMMARY:Bl. 2 & Bl. 3 ar ais ar scoil
URL:http://www.laurelhillcolaistefcj.ie/event/bl-2-bl-3-ar-ais-ar-scoil/
X-COST-TYPE:free
END:VEVENT
BEGIN:VEVENT
UID:ai1ec-1693@www.laurelhillcolaistefcj.ie
DTSTAMP:20171107T013641Z
CATEGORIES:
CONTACT:
DESCRIPTION:
DTSTART;VALUE=DATE:20170901
DTEND;VALUE=DATE:20170902
SEQUENCE:0
SUMMARY:Gnáth lá Scoile
URL:http://www.laurelhillcolaistefcj.ie/event/gnath-la-scoile/
X-COST-TYPE:free
END:VEVENT
BEGIN:VEVENT
UID:ai1ec-1695@www.laurelhillcolaistefcj.ie
DTSTAMP:20171107T013641Z
CATEGORIES:
CONTACT:
DESCRIPTION:Turas go hAcaill do scoláirí na hIdirbliana
DTSTART;VALUE=DATE:20170910
DTEND;VALUE=DATE:20170913
SEQUENCE:0
SUMMARY:TY Turas Gaisce
URL:http://www.laurelhillcolaistefcj.ie/event/ty-turas-gaisce/
X-COST-TYPE:free
X-ALT-DESC;FMTTYPE=text/html:<!DOCTYPE HTML PUBLIC '-//W3C//DTD HTML 3.2//E
 N'>\\n<HTML>\\n<HEAD>\\n<TITLE></TITLE>\\n</HEAD>\\n<BODY><p>Turas go hAca
 ill do scoláirí na hIdirbliana</p>\n</BODY></HTML>
END:VEVENT
BEGIN:VEVENT
UID:ai1ec-1699@www.laurelhillcolaistefcj.ie
DTSTAMP:20171107T013641Z
CATEGORIES:
CONTACT:
DESCRIPTION:
DTSTART;VALUE=DATE:20171030
DTEND;VALUE=DATE:20171104
SEQUENCE:0
SUMMARY:Briseadh Lár Téarma
URL:http://www.laurelhillcolaistefcj.ie/event/briseadh-lar-tearma-2/
X-COST-TYPE:free
END:VEVENT
BEGIN:VEVENT
UID:ai1ec-1697@www.laurelhillcolaistefcj.ie
DTSTAMP:20171107T013641Z
CATEGORIES:
CONTACT:
DESCRIPTION:1st Work Experience Programme for Transition Year students
DTSTART;VALUE=DATE:20171120
DTEND;VALUE=DATE:20171202
SEQUENCE:0
SUMMARY:Taithí Oibre 1 Idirbhliain
URL:http://www.laurelhillcolaistefcj.ie/event/taithi-oibre-1-idirbhliain/
X-COST-TYPE:free
X-ALT-DESC;FMTTYPE=text/html:<!DOCTYPE HTML PUBLIC '-//W3C//DTD HTML 3.2//E
 N'>\\n<HTML>\\n<HEAD>\\n<TITLE></TITLE>\\n</HEAD>\\n<BODY><p>1st Work Expe
 rience Programme for Transition Year students</p>\n</BODY></HTML>
END:VEVENT
BEGIN:VEVENT
UID:ai1ec-1701@www.laurelhillcolaistefcj.ie
DTSTAMP:20171107T013641Z
CATEGORIES:
CONTACT:
DESCRIPTION:
DTSTART;VALUE=DATE:20171208
DTEND;VALUE=DATE:20171209
SEQUENCE:0
SUMMARY:Saoire Eaglaise
URL:http://www.laurelhillcolaistefcj.ie/event/oscailt/
X-COST-TYPE:free
END:VEVENT
BEGIN:VEVENT
UID:ai1ec-1707@www.laurelhillcolaistefcj.ie
DTSTAMP:20171107T013641Z
CATEGORIES:
CONTACT:
DESCRIPTION:
DTSTART;VALUE=DATE:20180108
DTEND;VALUE=DATE:20180109
SEQUENCE:0
SUMMARY:Oscailt
URL:http://www.laurelhillcolaistefcj.ie/event/oscailt-3/
X-COST-TYPE:free
END:VEVENT
BEGIN:VEVENT
UID:ai1ec-1702@www.laurelhillcolaistefcj.ie
DTSTAMP:20171107T013641Z
CATEGORIES:
CONTACT:
DESCRIPTION:
DTSTART;VALUE=DATE:20180212
DTEND;VALUE=DATE:20180217
SEQUENCE:0
SUMMARY:Briseadh Lár Téarma
URL:http://www.laurelhillcolaistefcj.ie/event/briseadh-lar-tearma-3/
X-COST-TYPE:free
END:VEVENT
BEGIN:VEVENT
UID:ai1ec-1698@www.laurelhillcolaistefcj.ie
DTSTAMP:20171107T013641Z
CATEGORIES:
CONTACT:
DESCRIPTION:Second Work Experience Programme for Transition Year students
DTSTART;VALUE=DATE:20180219
DTEND;VALUE=DATE:20180303
SEQUENCE:0
SUMMARY:Taithí Oibre 2 Idirbhliain
URL:http://www.laurelhillcolaistefcj.ie/event/taithi-oibre-2-idirbhliain/
X-COST-TYPE:free
X-ALT-DESC;FMTTYPE=text/html:<!DOCTYPE HTML PUBLIC '-//W3C//DTD HTML 3.2//E
 N'>\\n<HTML>\\n<HEAD>\\n<TITLE></TITLE>\\n</HEAD>\\n<BODY><p>Second Work E
 xperience Programme for Transition Year students</p>\n</BODY></HTML>
END:VEVENT
BEGIN:VEVENT
UID:ai1ec-1705@www.laurelhillcolaistefcj.ie
DTSTAMP:20171107T013641Z
CATEGORIES:
CONTACT:
DESCRIPTION:
DTSTART;VALUE=DATE:20180409
DTEND;VALUE=DATE:20180410
SEQUENCE:0
SUMMARY:Oscailt
URL:http://www.laurelhillcolaistefcj.ie/event/oscailt-2/
X-COST-TYPE:free
END:VEVENT
BEGIN:VEVENT
UID:ai1ec-1706@www.laurelhillcolaistefcj.ie
DTSTAMP:20171107T013641Z
CATEGORIES:
CONTACT:
DESCRIPTION:
DTSTART;VALUE=DATE:20180507
DTEND;VALUE=DATE:20180508
SEQUENCE:0
SUMMARY:Saoire Poiblí
URL:http://www.laurelhillcolaistefcj.ie/event/saoire-poibli/
X-COST-TYPE:free
END:VEVENT
BEGIN:VEVENT
UID:ai1ec-206@www.laurelhillcolaistefcj.ie/wip
DTSTAMP:20171107T013641Z
CATEGORIES:
CONTACT:
DESCRIPTION:2.5 hour workshops with our 2nd year students. The girls will b
 e shown a variety of study techniques and given resources to help them pla
 n their study.
DTSTART;TZID=Europe/Dublin:20161026T100000
SEQUENCE:0
SUMMARY:Study Skill Bl.2
URL:http://www.laurelhillcolaistefcj.ie/event/scruduithe-bl-5-2/
X-COST-TYPE:free
X-ALT-DESC;FMTTYPE=text/html:<!DOCTYPE HTML PUBLIC '-//W3C//DTD HTML 3.2//E
 N'>\\n<HTML>\\n<HEAD>\\n<TITLE></TITLE>\\n</HEAD>\\n<BODY><p>2.5 hour work
 shops with our 2nd year students. The girls will be shown a variety of stu
 dy techniques and given resources to help them plan their study.</p>\n</BO
 DY></HTML>
X-INSTANT-EVENT:1
END:VEVENT
BEGIN:VEVENT
UID:ai1ec-128@www.laurelhillcolaistefcj.ie/wip
DTSTAMP:20171107T013641Z
CATEGORIES:
CONTACT:
DESCRIPTION:The school will be closed from Friday October 28th and will re-
 open on Monday\, November 7th. Happy Halloween.
DTSTART;TZID=Europe/Dublin:20161028T152000
DTEND;TZID=Europe/Dublin:20161107T081500
SEQUENCE:0
SUMMARY:Halloween Holidays
URL:http://www.laurelhillcolaistefcj.ie/event/halloween-holidays/
X-COST-TYPE:free
X-ALT-DESC;FMTTYPE=text/html:<!DOCTYPE HTML PUBLIC '-//W3C//DTD HTML 3.2//E
 N'>\\n<HTML>\\n<HEAD>\\n<TITLE></TITLE>\\n</HEAD>\\n<BODY><p>The school wi
 ll be closed from Friday October 28th and will re-open on Monday\, Novembe
 r 7th. Happy Halloween.</p>\n</BODY></HTML>
END:VEVENT
BEGIN:VEVENT
UID:ai1ec-204@www.laurelhillcolaistefcj.ie/wip
DTSTAMP:20171107T013641Z
CATEGORIES:
CONTACT:
DESCRIPTION:
DTSTART;TZID=Europe/Dublin:20161114T085500
SEQUENCE:0
SUMMARY:Scrúduithe Bl 6 & 3
URL:http://www.laurelhillcolaistefcj.ie/event/scruduithe-bl-6-3/
X-COST-TYPE:free
X-INSTANT-EVENT:1
END:VEVENT
BEGIN:VEVENT
UID:ai1ec-208@www.laurelhillcolaistefcj.ie/wip
DTSTAMP:20171107T013641Z
CATEGORIES:
CONTACT:
DESCRIPTION:
DTSTART;TZID=Europe/Dublin:20161121T085500
SEQUENCE:0
SUMMARY:Taithí Oibre TY
URL:http://www.laurelhillcolaistefcj.ie/event/taithi-oibre-ty/
X-COST-TYPE:free
X-INSTANT-EVENT:1
END:VEVENT
BEGIN:VEVENT
UID:ai1ec-511@www.laurelhillcolaistefcj.ie/wip
DTSTAMP:20171107T013641Z
CATEGORIES:
CONTACT:
DESCRIPTION:
DTSTART;TZID=Europe/Dublin:20161123T190000
DTEND;TZID=Europe/Dublin:20161123T200000
LOCATION:Halla Bhríde @ Laurel Hill Coláiste FCJ
SEQUENCE:0
SUMMARY:CAO Information Evening
URL:http://www.laurelhillcolaistefcj.ie/event/cao-information-evening/
X-COST-TYPE:free
END:VEVENT
BEGIN:VEVENT
UID:ai1ec-209@www.laurelhillcolaistefcj.ie/wip
DTSTAMP:20171107T013641Z
CATEGORIES:
CONTACT:
DESCRIPTION:
DTSTART;TZID=Europe/Dublin:20161205T161500
DTEND;TZID=Europe/Dublin:20161205T184500
SEQUENCE:0
SUMMARY:Parent Teacher Meeting Bl.6
URL:http://www.laurelhillcolaistefcj.ie/event/parent-teacher-meeting-bl-6/
X-COST-TYPE:free
END:VEVENT
BEGIN:VEVENT
UID:ai1ec-210@www.laurelhillcolaistefcj.ie/wip
DTSTAMP:20171107T013641Z
CATEGORIES:
CONTACT:
DESCRIPTION:
DTSTART;TZID=Europe/Dublin:20161215T161500
DTEND;TZID=Europe/Dublin:20161215T184500
SEQUENCE:0
SUMMARY:Parent Teacher Meeting Bl.3
URL:http://www.laurelhillcolaistefcj.ie/event/parent-teacher-meeting-bl-3/
X-COST-TYPE:free
END:VEVENT
BEGIN:VEVENT
UID:ai1ec-1121@www.laurelhillcolaistefcj.ie
DTSTAMP:20171107T013641Z
CATEGORIES:
CONTACT:
DESCRIPTION:
DTSTART;TZID=Europe/Dublin:20161219T193000
SEQUENCE:0
SUMMARY:5th Year Music Recital
URL:http://www.laurelhillcolaistefcj.ie/event/5th-year-music-recital/
X-COST-TYPE:free
X-INSTANT-EVENT:1
END:VEVENT
BEGIN:VEVENT
UID:ai1ec-535@www.laurelhillcolaistefcj.ie
DTSTAMP:20171107T013641Z
CATEGORIES:
CONTACT:
DESCRIPTION:
DTSTART;TZID=Europe/Dublin:20161220T100000
DTEND;TZID=Europe/Dublin:20161220T120000
SEQUENCE:0
SUMMARY:Bl. 1 Maidin Caife
URL:http://www.laurelhillcolaistefcj.ie/event/bl-1-maidin-caife/
X-COST-TYPE:free
END:VEVENT
BEGIN:VEVENT
UID:ai1ec-129@www.laurelhillcolaistefcj.ie/wip
DTSTAMP:20171107T013641Z
CATEGORIES:
CONTACT:
DESCRIPTION:The school will be closed from Thursday December 22nd and will 
 re-open on Monday\, January 9th. Happy Christmas to all students\, parents
  and staff.
DTSTART;TZID=Europe/Dublin:20161222T123000
SEQUENCE:0
SUMMARY:Christmas Holidays
URL:http://www.laurelhillcolaistefcj.ie/event/christmas-holidays/
X-COST-TYPE:free
X-ALT-DESC;FMTTYPE=text/html:<!DOCTYPE HTML PUBLIC '-//W3C//DTD HTML 3.2//E
 N'>\\n<HTML>\\n<HEAD>\\n<TITLE></TITLE>\\n</HEAD>\\n<BODY><p>The school wi
 ll be closed from Thursday December 22nd and will re-open on Monday\, Janu
 ary 9th. Happy Christmas to all students\, parents and staff.</p>\n</BODY>
 </HTML>
X-INSTANT-EVENT:1
END:VEVENT
BEGIN:VEVENT
UID:ai1ec-536@www.laurelhillcolaistefcj.ie
DTSTAMP:20171107T013641Z
CATEGORIES:
CONTACT:
DESCRIPTION:
DTSTART;TZID=Europe/Dublin:20170109T085500
SEQUENCE:0
SUMMARY:Filleadh ar ais ar Scoil
URL:http://www.laurelhillcolaistefcj.ie/event/filleadh-ar-ais-ar-scoil/
X-COST-TYPE:free
X-INSTANT-EVENT:1
END:VEVENT
BEGIN:VEVENT
UID:ai1ec-537@www.laurelhillcolaistefcj.ie
DTSTAMP:20171107T013641Z
CATEGORIES:
CONTACT:
DESCRIPTION:
DTSTART;TZID=Europe/Dublin:20170112T161500
DTEND;TZID=Europe/Dublin:20170112T184500
SEQUENCE:0
SUMMARY:PTM Bl. 5 & Anam
URL:http://www.laurelhillcolaistefcj.ie/event/ptm-bl-5/
X-COST-TYPE:free
END:VEVENT
BEGIN:VEVENT
UID:ai1ec-1194@www.laurelhillcolaistefcj.ie
DTSTAMP:20171107T013641Z
CATEGORIES:
CONTACT:
DESCRIPTION:1st years Parent – Teacher meeting
DTSTART;TZID=Europe/Dublin:20170123T132000
DTEND;TZID=Europe/Dublin:20170123T155000
SEQUENCE:0
SUMMARY:PTM Bl. 1
URL:http://www.laurelhillcolaistefcj.ie/event/ptm-bl-1/
X-COST-TYPE:free
X-ALT-DESC;FMTTYPE=text/html:<!DOCTYPE HTML PUBLIC '-//W3C//DTD HTML 3.2//E
 N'>\\n<HTML>\\n<HEAD>\\n<TITLE></TITLE>\\n</HEAD>\\n<BODY><p>1st years Par
 ent – Teacher meeting</p>\n</BODY></HTML>
END:VEVENT
BEGIN:VEVENT
UID:ai1ec-538@www.laurelhillcolaistefcj.ie
DTSTAMP:20171107T013641Z
CATEGORIES:
CONTACT:
DESCRIPTION:
DTSTART;TZID=Europe/Dublin:20170128T200000
SEQUENCE:0
SUMMARY:Ceolchoirm le De la Salle
URL:http://www.laurelhillcolaistefcj.ie/event/ceolchoirm-le-de-la-salle/
X-COST-TYPE:free
X-INSTANT-EVENT:1
END:VEVENT
BEGIN:VEVENT
UID:ai1ec-1195@www.laurelhillcolaistefcj.ie
DTSTAMP:20171107T013641Z
CATEGORIES:
CONTACT:
DESCRIPTION:Parent Teacher Meeting for 2nd years and Cuisle
DTSTART;TZID=Europe/Dublin:20170131T132000
DTEND;TZID=Europe/Dublin:20170131T155000
SEQUENCE:0
SUMMARY:PTM Bl. 2 & Cuisle
URL:http://www.laurelhillcolaistefcj.ie/event/ptm-bl-2-cuisle/
X-COST-TYPE:free
X-ALT-DESC;FMTTYPE=text/html:<!DOCTYPE HTML PUBLIC '-//W3C//DTD HTML 3.2//E
 N'>\\n<HTML>\\n<HEAD>\\n<TITLE></TITLE>\\n</HEAD>\\n<BODY><p>Parent Teache
 r Meeting for 2nd years and Cuisle</p>\n</BODY></HTML>
END:VEVENT
BEGIN:VEVENT
UID:ai1ec-539@www.laurelhillcolaistefcj.ie
DTSTAMP:20171107T013641Z
CATEGORIES:
CONTACT:
DESCRIPTION:
DTSTART;TZID=Europe/Dublin:20170201T140000
DTEND;TZID=Europe/Dublin:20170201T152000
SEQUENCE:0
SUMMARY:Aifreann Lá ‘le Bríde
URL:http://www.laurelhillcolaistefcj.ie/event/aifreann-la-le-bride/
X-COST-TYPE:free
END:VEVENT
BEGIN:VEVENT
UID:ai1ec-540@www.laurelhillcolaistefcj.ie
DTSTAMP:20171107T013641Z
CATEGORIES:
CONTACT:
DESCRIPTION:
DTSTART;TZID=Europe/Dublin:20170206T085500
SEQUENCE:0
SUMMARY:Réamhscrúduithe ag tosú
URL:http://www.laurelhillcolaistefcj.ie/event/reamhscruduithe-ag-tosu/
X-COST-TYPE:free
X-INSTANT-EVENT:1
END:VEVENT
BEGIN:VEVENT
UID:ai1ec-541@www.laurelhillcolaistefcj.ie
DTSTAMP:20171107T013641Z
CATEGORIES:
CONTACT:
DESCRIPTION:
DTSTART;TZID=Europe/Dublin:20170211T000000
SEQUENCE:0
SUMMARY:TY French Exchange
URL:http://www.laurelhillcolaistefcj.ie/event/ty-french-exchange/
X-COST-TYPE:free
X-INSTANT-EVENT:1
END:VEVENT
BEGIN:VEVENT
UID:ai1ec-1400@www.laurelhillcolaistefcj.ie
DTSTAMP:20171107T013641Z
CATEGORIES:
CONTACT:
DESCRIPTION:Information for current TY Parents / Guardians about the option
 al subjects available for Leaving Certificate
DTSTART;TZID=Europe/Dublin:20170327T170000
SEQUENCE:0
SUMMARY:Leaving Certificate Subject Information Evening
URL:http://www.laurelhillcolaistefcj.ie/event/leaving-certificate-subject-i
 nformation-evening/
X-COST-TYPE:free
X-ALT-DESC;FMTTYPE=text/html:<!DOCTYPE HTML PUBLIC '-//W3C//DTD HTML 3.2//E
 N'>\\n<HTML>\\n<HEAD>\\n<TITLE></TITLE>\\n</HEAD>\\n<BODY><p>Information f
 or current TY Parents / Guardians about the optional subjects available fo
 r Leaving Certificate</p>\n</BODY></HTML>
X-INSTANT-EVENT:1
END:VEVENT
BEGIN:VEVENT
UID:ai1ec-1407@www.laurelhillcolaistefcj.ie
DTSTAMP:20171107T013641Z
CATEGORIES:
CONTACT:
DESCRIPTION:Turas thar óiche TY go dtí an Boireann chun siúlóid a dhéanamh
DTSTART;TZID=Europe/Dublin:20170329T103000
DTEND;TZID=Europe/Dublin:20170330T153000
SEQUENCE:0
SUMMARY:Gaisce
URL:http://www.laurelhillcolaistefcj.ie/event/gaisce/
X-COST-TYPE:free
X-ALT-DESC;FMTTYPE=text/html:<!DOCTYPE HTML PUBLIC '-//W3C//DTD HTML 3.2//E
 N'>\\n<HTML>\\n<HEAD>\\n<TITLE></TITLE>\\n</HEAD>\\n<BODY><p>Turas thar ói
 che TY go dtí an Boireann chun siúlóid a dhéanamh</p>\n</BODY></HTML>
END:VEVENT
BEGIN:VEVENT
UID:ai1ec-1652@www.laurelhillcolaistefcj.ie
DTSTAMP:20171107T013641Z
CATEGORIES:
CONTACT:
DESCRIPTION:
DTSTART;TZID=Europe/Dublin:20170525T193000
DTEND;TZID=Europe/Dublin:20170525T210000
LOCATION:Séipéil @ Laurel Hill Coláiste\, FCJ
SEQUENCE:0
SUMMARY:Bronnadh na dTeastais don Idirbhliain
URL:http://www.laurelhillcolaistefcj.ie/event/bronnadh-na-dteastais-don-idi
 rbhliain/
X-COST-TYPE:free
END:VEVENT
BEGIN:VEVENT
UID:ai1ec-217@www.laurelhillcolaistefcj.ie/wip
DTSTAMP:20171107T013641Z
CATEGORIES:
CONTACT:
DESCRIPTION:
DTSTART;TZID=Europe/Dublin:20170602T123000
SEQUENCE:0
SUMMARY:Saoire an tSamhraidh
URL:http://www.laurelhillcolaistefcj.ie/event/saoire-an-tsamhraidh/
X-COST-TYPE:free
X-INSTANT-EVENT:1
END:VEVENT
BEGIN:VEVENT
UID:ai1ec-1689@www.laurelhillcolaistefcj.ie
DTSTAMP:20171107T013641Z
CATEGORIES:
CONTACT:
DESCRIPTION:
DTSTART;TZID=Europe/Dublin:20170829T090000
SEQUENCE:0
SUMMARY:TY Induction
URL:http://www.laurelhillcolaistefcj.ie/event/ty-induction/
X-COST-TYPE:free
X-INSTANT-EVENT:1
END:VEVENT
BEGIN:VEVENT
UID:ai1ec-1690@www.laurelhillcolaistefcj.ie
DTSTAMP:20171107T013641Z
CATEGORIES:
CONTACT:
DESCRIPTION:
DTSTART;TZID=Europe/Dublin:20170830T103000
SEQUENCE:0
SUMMARY:Bl. 1 Mionchampa
URL:http://www.laurelhillcolaistefcj.ie/event/bl-1-mionchampa/
X-COST-TYPE:free
X-INSTANT-EVENT:1
END:VEVENT
BEGIN:VEVENT
UID:ai1ec-1694@www.laurelhillcolaistefcj.ie
DTSTAMP:20171107T013641Z
CATEGORIES:
CONTACT:
DESCRIPTION:
DTSTART;TZID=Europe/Dublin:20170831T103000
SEQUENCE:0
SUMMARY:Mionchampa Bl. 1
URL:http://www.laurelhillcolaistefcj.ie/event/mionchampa-bl-1/
X-COST-TYPE:free
X-INSTANT-EVENT:1
END:VEVENT
BEGIN:VEVENT
UID:ai1ec-1712@www.laurelhillcolaistefcj.ie
DTSTAMP:20171107T013641Z
CATEGORIES:
CONTACT:
DESCRIPTION:6th Class students and their parents are invited to visit our s
 chool on our Annual Open day.
DTSTART;TZID=Europe/Dublin:20171007T100000
DTEND;TZID=Europe/Dublin:20171007T120000
SEQUENCE:0
SUMMARY:Lá Oscailte
URL:http://www.laurelhillcolaistefcj.ie/event/la-oscailte/
X-COST-TYPE:free
X-ALT-DESC;FMTTYPE=text/html:<!DOCTYPE HTML PUBLIC '-//W3C//DTD HTML 3.2//E
 N'>\\n<HTML>\\n<HEAD>\\n<TITLE></TITLE>\\n</HEAD>\\n<BODY><p>6th Class stu
 dents and their parents are invited to visit our school on our Annual Open
  day.</p>\n</BODY></HTML>
END:VEVENT
BEGIN:VEVENT
UID:ai1ec-1700@www.laurelhillcolaistefcj.ie
DTSTAMP:20171107T013641Z
CATEGORIES:
CONTACT:
DESCRIPTION:
DTSTART;TZID=Europe/Dublin:20171222T123000
SEQUENCE:0
SUMMARY:Saoire na Nollag
URL:http://www.laurelhillcolaistefcj.ie/event/saoire-na-nollag/
X-COST-TYPE:free
X-INSTANT-EVENT:1
END:VEVENT
BEGIN:VEVENT
UID:ai1ec-1704@www.laurelhillcolaistefcj.ie
DTSTAMP:20171107T013641Z
CATEGORIES:
CONTACT:
DESCRIPTION:
DTSTART;TZID=Europe/Dublin:20180323T152000
SEQUENCE:0
SUMMARY:Saoire na Cásca
URL:http://www.laurelhillcolaistefcj.ie/event/saoire-na-casca/
X-COST-TYPE:free
X-INSTANT-EVENT:1
END:VEVENT
BEGIN:VEVENT
UID:ai1ec-1703@www.laurelhillcolaistefcj.ie
DTSTAMP:20171107T013641Z
CATEGORIES:
CONTACT:
DESCRIPTION:
DTSTART;TZID=Europe/Dublin:20180601T123000
SEQUENCE:0
SUMMARY:Saoire an t-Samhradh
URL:http://www.laurelhillcolaistefcj.ie/event/saoire-t-samhradh/
X-COST-TYPE:free
X-INSTANT-EVENT:1
END:VEVENT
END:VCALENDAR
